BEGIN:VCALENDAR
VERSION:2.0
PRODID:-//Microsoft Corporation//Outlook 11.0 MIMEDIR//EN
METHOD:PUBLISH
BEGIN:VEVENT
CLASS:PUBLIC
DTSTAMP:20260419T141227Z
UID:teen-craft-time-doodle-weaving@winpublib.assabetinteractive@towncommon.org
DTSTART:20260324T200000Z
DTEND:20260324T210000Z
SUMMARY:Teen Craft Time: Doodle Weaving
DESCRIPTION:This event is for students in grades 6-12. No adults\, please. Learn
  to construct a simple loom out of recycled materials and create your
  own colorful\, textured wall hangings!(photo from ArtBar)
LOCATION:Winchester Public Library\, 80 Washington Street\, Winchester\, MA
  01890
URL:https://winpublib.assabetinteractive.com/calendar/teen-craft-time-dood
 le-weaving/
IMAGE:https://s3.amazonaws.com/ai-assets/winpublib/doodle-weaving10_459_lg.j
 pg
CATEGORIES:Cultural\,Education
END:VEVENT
END:VCALENDAR
