BEGIN:VCALENDAR
VERSION:2.0
PRODID:-//Microsoft Corporation//Outlook 11.0 MIMEDIR//EN
METHOD:PUBLISH
BEGIN:VEVENT
CLASS:PUBLIC
DTSTAMP:20260419T122353Z
UID:learn-to-sew-pocket-animals@winpublib.assabetinteractive.co@towncommon.org
DTSTART:20260324T200000Z
DTEND:20260324T210000Z
SUMMARY:Learn to Sew: Pocket Animals
DESCRIPTION:Learn how to sew a small cat\, dog\, or bunny by hand in this program.
  Skills learned will include threading a needle\, knot tying\,
  stitching\, and closing a stuffed item. When registering\, please
  indicate animal and color preference for your project. This program is
  for kids rising into grades 4-5.
LOCATION:Winchester Public Library\, 80 Washington Street\, Winchester\, MA
  01890
URL:https://winpublib.assabetinteractive.com/calendar/learn-to-sew-pocket-
 animals/
CATEGORIES:Cultural\,Education
END:VEVENT
END:VCALENDAR
