BEGIN:VCALENDAR
VERSION:2.0
PRODID:-//Microsoft Corporation//Outlook 11.0 MIMEDIR//EN
METHOD:PUBLISH
BEGIN:VEVENT
CLASS:PUBLIC
DTSTAMP:20260425T022351Z
UID:TCTF-1777083831@towncommon.org
DTSTART:20241109T133000Z
DTEND:20241109T190000Z
SUMMARY:Holiday Faire
DESCRIPTION:Our home-made apple pies will fill the freezer. Our crafters have been
  knitting\, crocheting\, and sewing handmade treasures all year and
  this is your chance to scoop them up! Our bakers and soup makers are
  getting ready to fill our baked goods table and snack bar\, so
  you’ll have plenty of tasty options if you get hungry while
  shopping. Our White Elephant and Book Sale tables will soon be
  groaning with treasures. Plus the jewelry table\, Christmas Room\, and
  cookie bar! We hope you’ll join us in kicking off the holiday season
  at this beloved community event.
LOCATION:Crawford Memorial United Methodist Church\, 34 Dix Street\,
  Winchester\, MA 01890
URL:https://crawfordmethodist.org/2024-holiday-faire-nov-9/
IMAGE:https://www.towncommon.org/sites/default/files/2024-11/HolidayFaireSig
 n2024.jpg
CATEGORIES:Commercial\,Community\,Cultural
END:VEVENT
END:VCALENDAR
