BEGIN:VCALENDAR
VERSION:2.0
PRODID:-//Microsoft Corporation//Outlook 11.0 MIMEDIR//EN
METHOD:PUBLISH
BEGIN:VEVENT
CLASS:PUBLIC
DTSTAMP:20260425T021718Z
UID:TCTF-1777083438@towncommon.org
DTSTART:20250302T140000Z
DTEND:20250303T230000Z
SUMMARY:En Ka Pantry
DESCRIPTION:En Ka Pantry provides fresh\, frozen and non-perishable food and
  personal care items to individuals and families living in Winchester
  who do not have adequate financial resources to meet basic needs. The
  Pantry is open to all households through pre-arranged appointments.
  Transportation available upon request.For more information\, text\,
  email or call 781-369-5844\, enkapantry@gmail.com.
LOCATION:En Ka Society\, 1037 Main Street\, Winchester\, MA 01890
URL:http://enkasociety.org
IMAGE:https://www.towncommon.org/sites/default/files/2025-02/unnamed%20_18_.
 jpg
CATEGORIES:Community
END:VEVENT
END:VCALENDAR
