BEGIN:VCALENDAR
VERSION:2.0
PRODID:-//Microsoft Corporation//Outlook 11.0 MIMEDIR//EN
METHOD:PUBLISH
BEGIN:VEVENT
CLASS:PUBLIC
DTSTAMP:20260419T132533Z
UID:10001165-1760799600-1760805000@www.winchestermusic.org-1776@towncommon.org
DTSTART:20251018T190000Z
DTEND:20251018T203000Z
SUMMARY:Sight-Reading Superstars: Brass & Woodwind Workshop
DESCRIPTION:Do you dream of improving your sight-reading skills? Do you want to
  feel stronger and more confident at your auditions? Do you want to go
  to your rehearsals and be able to play new music on your stand better
  on the first try? Then this class is for you! 
 
 In this 90-minute power session\, WCMS teaching artist Jeanne
  Snodgrass (trumpet) will work with students on multiple sight-reading
  techniques. You will practice sight-reading patterns without
  instruments\, as well as work on reading examples similar to those you
  might encounter in a live audition with your instruments. 
 
 All woodwind & brass students from Grade 6 through Adult Learners are
  welcome. Please bring your instrument. 
 
 Advance registration is required. 
 
 Free for WCMS Students\; $15 for the general public. 
 
 Register Online (WCMS students) 
 
 Register Online (general public)
LOCATION:Winchester Community Music School\, 407 Highland Avenue\, Winchester\,
  MA 01890
URL:https://www.winchestermusic.org/event/sight-reading-superstars-brass-w
 oodwind-workshop/
CATEGORIES:Cultural\,Education
END:VEVENT
END:VCALENDAR
