BEGIN:VCALENDAR
VERSION:2.0
PRODID:-//Microsoft Corporation//Outlook 11.0 MIMEDIR//EN
METHOD:PUBLISH
BEGIN:VEVENT
CLASS:PUBLIC
DTSTAMP:20260419T161919Z
UID:12022-1776615559@towncommon.org
DTSTART:20260108T000000Z
DTEND:20260108T010000Z
SUMMARY:En Ka Information Session for Women Interested in Joining
DESCRIPTION:Interested in learning more about joining En Ka? 
 
 We'd love to tell you more! 
 
 The En Ka Society is a non-profit charitable organization comprised of
  over 200 women volunteers. Our mission is to aid various non-profit
  organizations and initiatives that serve the people of Winchester\,
  its residents in need\, and our town for public purposes. 
 
 Since 2000\, En Ka has given over $2 million back to the community
  through grants\, social service outlays\, and community outreach
  initiatives.
LOCATION:Winchester Public Library\, 80 Washington Street\, Winchester\, MA
  01890
URL:https://www.winchester.us/calendar.aspx?EID=12022
IMAGE:https://www.winchester.us/calendar/En%20Ka%20Membership%20Info%20Sessi
 ons%202025-2026.png
CATEGORIES:Cultural\,Education
END:VEVENT
END:VCALENDAR
