BEGIN:VCALENDAR
VERSION:2.0
PRODID:-//Microsoft Corporation//Outlook 11.0 MIMEDIR//EN
METHOD:PUBLISH
BEGIN:VEVENT
CLASS:PUBLIC
DTSTAMP:20260419T145141Z
UID:postponed-mindful-over-media-how-to-navigate-today-s-digita@towncommon.org
DTSTART:20260212T000000Z
DTEND:20260212T010000Z
SUMMARY:Mindful Over Media: How to Navigate Today's Digital World With
  Awareness
DESCRIPTION:In a world overflowing with screens\, streaming\, notifications\, and
  nonstop content\, how do we stay grounded\, intentional\, and mentally
  well? Mindful Over Media is an engaging\, eye-opening presentation
  that explores how modern media shapes our attention\, emotions\, and
  daily choices--and how we can reclaim clarity and calm.
LOCATION:Winchester Public Library\, 80 Washington Street\, Winchester\, MA
  01890
URL:https://winpublib.assabetinteractive.com/calendar/postponed-mindful-ov
 er-media-how-to-navigate-today-s-digital-world-with-awareness/
CATEGORIES:Cultural\,Education
END:VEVENT
END:VCALENDAR
