BEGIN:VCALENDAR
VERSION:2.0
PRODID:-//Microsoft Corporation//Outlook 11.0 MIMEDIR//EN
METHOD:PUBLISH
BEGIN:VEVENT
CLASS:PUBLIC
DTSTAMP:20260425T004831Z
UID:12292-1777078111@towncommon.org
DTSTART:20260218T140000Z
DTEND:20260218T170000Z
SUMMARY:February Break Pottery on the Wheel / Ages 8-13
DESCRIPTION:Looking for something fun to do during February Break? Join us for
  this fun-packed 3-day class\, where students will learn the basics of
  throwing on the wheel including centering and opening to create their
  own unique forms. Each student will have their own wheel for the
  entirety of the class period. 
 
 This class is open to beginner - intermediate level students. If you
  have never taken pottery before OR if you have taken a pottery class
  with us and would like to improve your skills\, we welcome you all to
  join us!
LOCATION:Studio on the Common\, 22 Church Street\, Winchester\, MA 01890
URL:https://www.winchester.us/calendar.aspx?EID=12292
IMAGE:https://www.winchester.us/calendar/image_279782_original.jpg
CATEGORIES:Cultural\,Education
END:VEVENT
END:VCALENDAR
