BEGIN:VCALENDAR
VERSION:2.0
PRODID:-//Microsoft Corporation//Outlook 11.0 MIMEDIR//EN
METHOD:PUBLISH
BEGIN:VEVENT
CLASS:PUBLIC
DTSTAMP:20260420T020435Z
UID:12348-1776650675@towncommon.org
DTSTART:20260226T000000Z
DTEND:20260226T013000Z
SUMMARY:UNDERSTANDING RELATIONSHIPS: Recognizing Unhealthy Patterns and
  Fostering Healthy Connections
DESCRIPTION:Join us for an evening with Meredith Shaw and Ali Calnan from Melrose
  Alliance 
 
 Against Violence (MAAV) where we will talk about how to help our young
  people develop crucial skills to build healthy\, respectful\, trusted
  relationships. 
 
 This workshop explores what tools kids need to build and sustain
  healthy relationships and how parents/caregivers can support them.
  We'll touch on healthy/unhealthy relationship signs\, wave of abuse\,
  online dating\, talking 
 
 with your child about healthy relationships and helping them support a
  friend.
LOCATION:Winchester Town Hall\, 71 Mt. Vernon Street\, Winchester\, MA 01890
URL:https://www.winchester.us/calendar.aspx?EID=12348
IMAGE:https://www.winchester.us/ImageRepository/Document?documentId=13212
CATEGORIES:Family\,Health
END:VEVENT
END:VCALENDAR
