BEGIN:VCALENDAR
VERSION:2.0
PRODID:-//Microsoft Corporation//Outlook 11.0 MIMEDIR//EN
METHOD:PUBLISH
BEGIN:VEVENT
CLASS:PUBLIC
DTSTAMP:20260419T132336Z
UID:teen-lego-building-rivendell-3@winpublib.assabetinteractive@towncommon.org
DTSTART:20260318T230000Z
DTEND:20260319T000000Z
SUMMARY:Teen LEGO Building: Rivendell
DESCRIPTION:This event is for students in grades 6-12. No adults\, please. Take a
  trip to Middle Earth and help us build the LEGO Rivendell set! This
  6\,167 piece set is one of the top 10 biggest LEGO sets ever and
  depicts the iconic location where the quest really begins.
LOCATION:Winchester Public Library\, 80 Washington Street\, Winchester\, MA
  01890
URL:https://winpublib.assabetinteractive.com/calendar/teen-lego-building-r
 ivendell-3/
IMAGE:https://s3.amazonaws.com/ai-assets/winpublib/rivendell_457_lg.png
CATEGORIES:Cultural\,Education
END:VEVENT
END:VCALENDAR
