BEGIN:VCALENDAR
VERSION:2.0
PRODID:-//Microsoft Corporation//Outlook 11.0 MIMEDIR//EN
METHOD:PUBLISH
BEGIN:VEVENT
CLASS:PUBLIC
DTSTAMP:20260423T142251Z
UID:TCTF-1776954171@towncommon.org
DTSTART:20260503T040000Z
DTEND:20260504T035900Z
SUMMARY:World Laughter Day
DESCRIPTION:Every year on the first Sunday in May\, World Laughter Day raises
  awareness of laughter and the many healing benefits it provides.
  Another goal of the day is to manifest World Peace and build a global
  consciousness through laughter. 
URL:https://dialalaugh.com
IMAGE:https://www.towncommon.org/sites/default/files/2026-04/LAUGHistockphot
 o-1308333725-612x612.JPEG.jpeg
CATEGORIES:Community\,Cultural
END:VEVENT
END:VCALENDAR
