BEGIN:VCALENDAR
VERSION:2.0
PRODID:-//Microsoft Corporation//Outlook 11.0 MIMEDIR//EN
METHOD:PUBLISH
BEGIN:VEVENT
CLASS:PUBLIC
DTSTAMP:20260424T203238Z
UID:SF69e7bd4c21d189eb2407f318-1777062758@towncommon.org
DTSTART:20260421T160000Z
DTEND:20260520T164500Z
SUMMARY:Celebrate Winchester Sponsorship Opportunities
DESCRIPTION:
URL:https://winchesterchamber.com/events/#!event/2026/4/21/celebrate-winch
 ester-sponsorship-opportunities
IMAGE:https://d1tif55lvfk8gc.cloudfront.net/69e7bd4c21d189eb2407f318s.jpg?17
 76794956\,https://d1tif55lvfk8gc.cloudfront.net/69e7bd4c21d189eb2407f3
 18.jpg?1776794956
CATEGORIES:Commercial
END:VEVENT
END:VCALENDAR
