BEGIN:VCALENDAR
VERSION:2.0
PRODID:-//Microsoft Corporation//Outlook 11.0 MIMEDIR//EN
METHOD:PUBLISH
BEGIN:VEVENT
CLASS:PUBLIC
DTSTAMP:20260424T203146Z
UID:12623-1777062706@towncommon.org
DTSTART:20260424T120000Z
DTEND:20260424T130000Z
SUMMARY:Select Board - Executive Session
DESCRIPTION:Agenda at
  https://www.winchester.us/AgendaCenter/SELECT-BOARD-TOWN-CLERKS-OFFICE
 -16/?#_04242026-7064
URL:https://www.winchester.us/calendar.aspx?EID=12623
CATEGORIES:Government
END:VEVENT
END:VCALENDAR
